BEGIN:VCALENDAR
VERSION:2.0
PRODID:-//SVP Wahlkreis Luzern Land //NONSGML Events //EN
CALSCALE:GREGORIAN
X-WR-CALNAME:SVP Wahlkreis Luzern Land
BEGIN:VEVENT
CREATED:20221006T043144Z
UID:24499
DTEND:20231029T000000
DTSTART:20231029T000000
DTSTAMP:20260420T142742Z
LOCATION:
DESCRIPTION:
SUMMARY:Ende Sommerzeit
ORGANIZER:
URL;VALUE=URI:https://www.svp-wahlkreisluzernland.ch/termine/ende-sommerzeit-5/
TRANSP:OPAQUE
END:VEVENT
END:VCALENDAR
