BEGIN:VCALENDAR
VERSION:2.0
PRODID:-//SVP Wahlkreis Luzern Land //NONSGML Events //EN
CALSCALE:GREGORIAN
X-WR-CALNAME:SVP Wahlkreis Luzern Land
BEGIN:VEVENT
CREATED:20221006T042612Z
UID:24633
DTEND:20231030T000000
DTSTART:20231030T000000
DTSTAMP:20260420T140635Z
LOCATION:
DESCRIPTION:
SUMMARY:Session Kantonsrat
ORGANIZER:
URL;VALUE=URI:https://www.svp-wahlkreisluzernland.ch/termine/session-kantonsrat-41/
TRANSP:OPAQUE
END:VEVENT
END:VCALENDAR
