BEGIN:VCALENDAR
VERSION:2.0
PRODID:-//SVP Wahlkreis Luzern Land //NONSGML Events //EN
CALSCALE:GREGORIAN
X-WR-CALNAME:SVP Wahlkreis Luzern Land
BEGIN:VEVENT
CREATED:20230228T192600Z
UID:26719
DTEND:20231122T000000
DTSTART:20231122T000000
DTSTAMP:20260426T005825Z
LOCATION:Garni Gisikon
DESCRIPTION:
SUMMARY:Erweiterte Vorstandssitzung
ORGANIZER:
URL;VALUE=URI:https://www.svp-wahlkreisluzernland.ch/termine/erweiterte-vorstandssitzung-3/
TRANSP:OPAQUE
END:VEVENT
END:VCALENDAR
