BEGIN:VCALENDAR
VERSION:2.0
PRODID:-//SVP Wahlkreis Luzern Land //NONSGML Events //EN
CALSCALE:GREGORIAN
X-WR-CALNAME:SVP Wahlkreis Luzern Land
BEGIN:VEVENT
CREATED:20250918T131704Z
UID:32181
DTEND:20260506T000000
DTSTART:20260506T000000
DTSTAMP:20260420T080833Z
LOCATION:Rest. Prelude\, Emmen
DESCRIPTION:
SUMMARY:Kant. Fraktionssitzung
ORGANIZER:
URL;VALUE=URI:https://www.svp-wahlkreisluzernland.ch/termine/kant-fraktionssitzung-46/
TRANSP:OPAQUE
END:VEVENT
END:VCALENDAR
