BEGIN:VCALENDAR
VERSION:2.0
PRODID:-//SVP Wahlkreis Luzern Land //NONSGML Events //EN
CALSCALE:GREGORIAN
X-WR-CALNAME:SVP Wahlkreis Luzern Land
BEGIN:VEVENT
CREATED:20250918T131702Z
UID:32243
DTEND:20260430T000000
DTSTART:20260430T000000
DTSTAMP:20260420T080859Z
LOCATION:Stadt Luzern
DESCRIPTION:
SUMMARY:Grossstadtratssitzung Luzern
ORGANIZER:
URL;VALUE=URI:https://www.svp-wahlkreisluzernland.ch/termine/grossstadtratssitzung-luzern-102/
TRANSP:OPAQUE
END:VEVENT
END:VCALENDAR
